BEGIN:VCALENDAR
VERSION:2.0
PRODID:-//FORNHORST - ECPv6.14.2//NONSGML v1.0//EN
CALSCALE:GREGORIAN
METHOD:PUBLISH
X-WR-CALNAME:FORNHORST
X-ORIGINAL-URL:https://fornhorst.de
X-WR-CALDESC:Veranstaltungen für FORNHORST
REFRESH-INTERVAL;VALUE=DURATION:PT1H
X-Robots-Tag:noindex
X-PUBLISHED-TTL:PT1H
BEGIN:VTIMEZONE
TZID:Europe/Berlin
BEGIN:DAYLIGHT
TZOFFSETFROM:+0100
TZOFFSETTO:+0200
TZNAME:CEST
DTSTART:20240331T010000
END:DAYLIGHT
BEGIN:STANDARD
TZOFFSETFROM:+0200
TZOFFSETTO:+0100
TZNAME:CET
DTSTART:20241027T010000
END:STANDARD
END:VTIMEZONE
BEGIN:VEVENT
DTSTART;TZID=Europe/Berlin:20241011T190000
DTEND;TZID=Europe/Berlin:20241011T233000
DTSTAMP:20260420T131356
CREATED:20241007T153501Z
LAST-MODIFIED:20241007T160339Z
UID:515-1728673200-1728689400@fornhorst.de
SUMMARY:Schwerin
DESCRIPTION:Zusammen mit The Originators und Dr. RingDing! \nTickets unter https://clubzenit.ticket.io/rr0ppd6u/ \n 
URL:https://fornhorst.de/event/schwerin/
LOCATION:Club Zenit\, Pappelgrund 15A\, Schwerin\, Mecklenburg-Vorpommern\, 19055\, Deutschland
CATEGORIES:"Leben ohne Scheiss"-Tour 2024
ATTACH;FMTTYPE=image/jpeg:https://fornhorst.de/wp-content/uploads/2024/10/Schwerin-11.10.2024-e1728315226750.jpg
END:VEVENT
BEGIN:VEVENT
DTSTART;TZID=Europe/Berlin:20241019T190000
DTEND;TZID=Europe/Berlin:20241019T233000
DTSTAMP:20260420T131356
CREATED:20240811T103943Z
LAST-MODIFIED:20240811T112636Z
UID:501-1729364400-1729380600@fornhorst.de
SUMMARY:Salzwedel!
DESCRIPTION:Am 19.10.24 spielen wir gemeinsam mit Kommando Rostkehlchen\, Beifang und Die Fliesenleger in Salzwedel! \nUrsprünglich sollte das Konzert in einer anderen Location stattfinden. Dank Euch wurden wir darauf aufmerksam gemacht\, dass der Betreiber seinen Laden auch an die AfD vermietet. Daher kam eine Zusammenarbeit für uns nicht mehr in Frage. Danke an den Club Hanseat\, der sich bereit erklärt hat\, uns „Obdach“ zu gewähren. \nEinlass ist 19 Uhr\, Eintritt 10 Euro\, wir freuen uns wie Bolle!
URL:https://fornhorst.de/event/salzwedel/
LOCATION:Club Hanseat\, Altperverstrasse 23\, Salzwedel\, Sachsen-Anhalt\, 29410\, Deutschland
CATEGORIES:"Leben ohne Scheiss"-Tour 2024
ATTACH;FMTTYPE=image/jpeg:https://fornhorst.de/wp-content/uploads/2024/08/salzwedel_final-scaled.jpg
END:VEVENT
BEGIN:VEVENT
DTSTART;TZID=Europe/Berlin:20241025T190000
DTEND;TZID=Europe/Berlin:20241025T233000
DTSTAMP:20260420T131356
CREATED:20241007T154927Z
LAST-MODIFIED:20241007T162224Z
UID:526-1729882800-1729899000@fornhorst.de
SUMMARY:Schapen/ Emsbüren
DESCRIPTION:Zusammen mit Kommando Rostkehlchen und Nicht System Relevant. \nNachdem leider das „Goethe rockt Schiller“ abgesagt wurde werden Fornhorst\, Kommando Rostkehlchen und Nicht System Relevant bei der Heilen Welt e.V. spielen. Die Veranstaltung wird unterstützt von Held*in der Provinz. \nEinlass gegen Spende. \n 
URL:https://fornhorst.de/event/schapen-emsbueren/
LOCATION:Heile Welt\, Schapen/ Emsbüren\, Niedersachsen\, 48480\, Deutschland
CATEGORIES:"Leben ohne Scheiss"-Tour 2024
ATTACH;FMTTYPE=image/jpeg:https://fornhorst.de/wp-content/uploads/2024/10/SchapenEmsbueren-25.10.2024.jpg
END:VEVENT
END:VCALENDAR