BEGIN:VCALENDAR
VERSION:2.0
PRODID:-//FORNHORST - ECPv6.14.2//NONSGML v1.0//EN
CALSCALE:GREGORIAN
METHOD:PUBLISH
X-ORIGINAL-URL:https://fornhorst.de
X-WR-CALDESC:Veranstaltungen für FORNHORST
REFRESH-INTERVAL;VALUE=DURATION:PT1H
X-Robots-Tag:noindex
X-PUBLISHED-TTL:PT1H
BEGIN:VTIMEZONE
TZID:Europe/Berlin
BEGIN:DAYLIGHT
TZOFFSETFROM:+0100
TZOFFSETTO:+0200
TZNAME:CEST
DTSTART:20240331T010000
END:DAYLIGHT
BEGIN:STANDARD
TZOFFSETFROM:+0200
TZOFFSETTO:+0100
TZNAME:CET
DTSTART:20241027T010000
END:STANDARD
END:VTIMEZONE
BEGIN:VEVENT
DTSTART;TZID=Europe/Berlin:20240726T190000
DTEND;TZID=Europe/Berlin:20240726T233000
DTSTAMP:20260420T183742
CREATED:20240702T100716Z
LAST-MODIFIED:20240702T100854Z
UID:436-1722020400-1722036600@fornhorst.de
SUMMARY:Fornhorst im Hafermarkt in Flensburg
DESCRIPTION:Zusammen mit Orange on Fire und Basic Pigeon
URL:https://fornhorst.de/event/fornhorst-im-hafermart-in-flensburg/
LOCATION:Ha\, Heinrichstrasse 10\, Flensburg\, Schleswig-Holstein\, 24937\, Deutschland
CATEGORIES:"Leben ohne Scheiss"-Tour 2024
END:VEVENT
END:VCALENDAR