BEGIN:VCALENDAR
VERSION:2.0
PRODID:-//FORNHORST - ECPv6.14.2//NONSGML v1.0//EN
CALSCALE:GREGORIAN
METHOD:PUBLISH
X-ORIGINAL-URL:https://fornhorst.de
X-WR-CALDESC:Veranstaltungen für FORNHORST
REFRESH-INTERVAL;VALUE=DURATION:PT1H
X-Robots-Tag:noindex
X-PUBLISHED-TTL:PT1H
BEGIN:VTIMEZONE
TZID:Europe/Berlin
BEGIN:DAYLIGHT
TZOFFSETFROM:+0100
TZOFFSETTO:+0200
TZNAME:CEST
DTSTART:20240331T010000
END:DAYLIGHT
BEGIN:STANDARD
TZOFFSETFROM:+0200
TZOFFSETTO:+0100
TZNAME:CET
DTSTART:20241027T010000
END:STANDARD
END:VTIMEZONE
BEGIN:VEVENT
DTSTART;TZID=Europe/Berlin:20240223T190000
DTEND;TZID=Europe/Berlin:20240223T220000
DTSTAMP:20260422T212725
CREATED:20240128T194852Z
LAST-MODIFIED:20240212T104505Z
UID:262-1708714800-1708725600@fornhorst.de
SUMMARY:23. Februar 2024 - Hannover Nordstadtbraut\, zusammen mit "FUN TOTAL"
DESCRIPTION:Fun Total haben ihr Album „Tristesse“ veröffentlicht und wir starten in unser Release-Jahr. \nBeginn ist pünktlich(!) um 20 Uhr. \nEs geht ein Hut rum. \nKommt zahlreich – wir freuen uns!
URL:https://fornhorst.de/event/23-februar-2024-hannover-nordstadtbraut-zusammen-mit-fun-total/
LOCATION:Nordstadtbraut Renate Marek\, Engelbosteler Damm 87\, Hannover\, Niedersachsen\, 30167\, Deutschland
ATTACH;FMTTYPE=image/jpeg:https://fornhorst.de/wp-content/uploads/2024/01/nordstadt_insta.jpg
END:VEVENT
END:VCALENDAR